BEGIN:VCALENDAR
VERSION:2.0
PRODID:-//DeKalb Area Alano Club - ECPv6.15.17.1//NONSGML v1.0//EN
CALSCALE:GREGORIAN
METHOD:PUBLISH
X-ORIGINAL-URL:https://dekalbalanoclub.com
X-WR-CALDESC:Events for DeKalb Area Alano Club
REFRESH-INTERVAL;VALUE=DURATION:PT1H
X-Robots-Tag:noindex
X-PUBLISHED-TTL:PT1H
BEGIN:VTIMEZONE
TZID:America/Chicago
BEGIN:DAYLIGHT
TZOFFSETFROM:-0600
TZOFFSETTO:-0500
TZNAME:CDT
DTSTART:20240310T080000
END:DAYLIGHT
BEGIN:STANDARD
TZOFFSETFROM:-0500
TZOFFSETTO:-0600
TZNAME:CST
DTSTART:20241103T070000
END:STANDARD
BEGIN:DAYLIGHT
TZOFFSETFROM:-0600
TZOFFSETTO:-0500
TZNAME:CDT
DTSTART:20250309T080000
END:DAYLIGHT
BEGIN:STANDARD
TZOFFSETFROM:-0500
TZOFFSETTO:-0600
TZNAME:CST
DTSTART:20251102T070000
END:STANDARD
BEGIN:DAYLIGHT
TZOFFSETFROM:-0600
TZOFFSETTO:-0500
TZNAME:CDT
DTSTART:20260308T080000
END:DAYLIGHT
BEGIN:STANDARD
TZOFFSETFROM:-0500
TZOFFSETTO:-0600
TZNAME:CST
DTSTART:20261101T070000
END:STANDARD
END:VTIMEZONE
BEGIN:VEVENT
DTSTART;TZID=America/Chicago:20250215T170000
DTEND;TZID=America/Chicago:20250215T183000
DTSTAMP:20260421T025308
CREATED:20241215T185110Z
LAST-MODIFIED:20250201T153830Z
UID:8109-1739638800-1739644200@dekalbalanoclub.com
SUMMARY:Keep it Simple - Chili Cook off
DESCRIPTION:Dekalb Area Alano club cordially invites you to our Chili cookoff! \n \nBring your home-made chili and compete for the title of BEST CHILI COOK! \nThere will be prizes for the three cooks with the most votes! \n  \n  \nThis is a free event hosted by the Dekalb Alano Club. \n  \n  \nCONTESTANT DEADLINE \nPlease R.S.V.P. by \nThursday February 13th to ensure that we have an accurate count of participants.
URL:https://dekalbalanoclub.com/event/keep-it-simple-chili-cook-off/
LOCATION:Alano Club\, 312 E Taylor St\, DeKalb\, IL\, 60115\, United States
ATTACH;FMTTYPE=image/jpeg:https://dekalbalanoclub.com/wp-content/uploads/2024/11/1000008894.jpg
ORGANIZER;CN="Alano Club":MAILTO:mq48re65@gmail.com
END:VEVENT
END:VCALENDAR